BEGIN:VCALENDAR
VERSION:2.0
PRODID:-//hacksw/handcal//NONSGML v1.0//EN
BEGIN:VEVENT
SUMMARY:Balleroy l'Embranchement
UID:02765279-94ed-4907-94fb-68555a56bbec
DTSTART:20260426T080000Z
DTEND:20260426T220000Z
LOCATION:Localisation   
CATEGORIES:Sportif
STATUS:
DESCRIPTION:<p><strong>Balade en
 foret</strong></p>
 
 <p><strong>Rendez-vous au depart de la
 randonnee</strong> : 10 heures parking Maison de la foret,
 l’Embranchement</p>
 
 <p><strong>Covoiturage possible</strong> :
 Parking de la Colline aux Oiseaux a 09h00</p>
 
 <p><strong>Nombre de
 kilometres</strong> : 18 kms en boucle, 10 kms le matin, 8 kms
 l’apres-midi</p>
 
 <p><strong>Niveau de difficulte</strong> : sans
 difficulte</p>
 
 <p><strong>Comment se rendre au depart</strong> :
 Emprunter le peripherique exterieur, jusqu’a Bayeux. Prendre la
 sortie 37, direction Saint-Lo. Noron la Poterie, puis
 l’Embranchement.</p>
 
 <p><strong>Coordonnees de
 l’accompagnateur</strong> : Louis Touve Tel 06 26.54.35.61 Mail
 trouvelouis@orange .fr</p>
URL;VALUE=URI:https://www.lescheminsduvent.fr/evenements/2026/04/26/balleroy-lembranchement-2433885
END:VEVENT
END:VCALENDAR
